BEGIN:VCALENDAR
VERSION:2.0
PRODID:-//wp-events-plugin.com//7.2.3.1//EN
TZID:America/New_York
X-WR-TIMEZONE:America/New_York
BEGIN:VEVENT
UID:532@uumidcoast.org
DTSTART;TZID=America/New_York:20260202T170000
DTEND;TZID=America/New_York:20260602T180000
DTSTAMP:20260129T223714Z
URL:https://uumidcoast.org/events/meditation/
SUMMARY:Meditation
DESCRIPTION:Looking for support for your meditation practice? Join us for 3
 0 minutes of silent sitting. Beginners and experienced meditators welcome.
  Please drop in - no ongoing commitment required.
LOCATION:38 Elm Street Plaza\, 38 Elm Street\, Damariscotta\, ME\, 04543\, 
 United States
X-APPLE-STRUCTURED-LOCATION;VALUE=URI;X-ADDRESS=38 Elm Street\, Damariscott
 a\, ME\, 04543\, United States;X-APPLE-RADIUS=100;X-TITLE=38 Elm Street Pl
 aza:geo:0,0
END:VEVENT
BEGIN:VTIMEZONE
TZID:America/New_York
X-LIC-LOCATION:America/New_York
BEGIN:STANDARD
DTSTART:20251102T010000
TZOFFSETFROM:-0400
TZOFFSETTO:-0500
TZNAME:EST
END:STANDARD
BEGIN:DAYLIGHT
DTSTART:20260308T030000
TZOFFSETFROM:-0500
TZOFFSETTO:-0400
TZNAME:EDT
END:DAYLIGHT
END:VTIMEZONE
END:VCALENDAR